BEGIN:VCALENDAR
VERSION:2.0
PRODID:-//wp-events-plugin.com//6.6.3//EN
TZID:Europe/Berlin
X-WR-TIMEZONE:Europe/Berlin
BEGIN:VEVENT
UID:78@ivhh.de
DTSTART;TZID=Europe/Berlin:20230415T100000
DTEND;TZID=Europe/Berlin:20230415T100000
DTSTAMP:20230217T150227Z
URL:https://ivhh.de/veranstaltungen-ivhh/koeniginnenzuchtkurs-2023/
SUMMARY:Königinnenzuchtkurs 2023
DESCRIPTION:Junge und leistungsstarke Königinnen sind die Basis einer erfo
 lgreichen Imkerei. Junge Königinnen bilden größere\, wehrhafte und ges
 ündere Völker und haben deutlich bessere Überwinterungsraten.\n\nInhalt
 e: Grundlagen und Ziele der Züchtung\, Zuchtplanung\, Arbeitsmaterialien\
 , Pflegevolk erstellen\, Umlarven\, Weiselzellen ins Pflegevolk setzen\, S
 chlupf und Zeichnen der Königinnenzellen\, Füllen der Begattungskästen\
 , Geeignete Verfahren der Einweiselung von Königinnen\n\nReferent: Jan Lo
 ppenthien\n\nPraxistermine (kostenpflichtig) werden mit den Teilnehmern in
 dividuell vor Ort vereinbart.\nDer Veranstaltungsort ist gut per Bus zu er
 reichen. Bus 191 von Niendorf Markt Richtung Krohnstiegtunnel. Ausstieg 
 Haltestelle Moorrand.
LOCATION:Hamburg Niendorf\, Garstedter Weg 336\, 22455 Hamburg\, Deutschlan
 d
X-APPLE-STRUCTURED-LOCATION;VALUE=URI;X-ADDRESS=Garstedter Weg 336\, 22455 
 Hamburg\, Deutschland;X-APPLE-RADIUS=100;X-TITLE=Hamburg Niendorf:geo:0,0
END:VEVENT
BEGIN:VEVENT
UID:80@ivhh.de
DTSTART;TZID=Europe/Berlin:20230506T103000
DTEND;TZID=Europe/Berlin:20230506T130000
DTSTAMP:20230505T063023Z
URL:https://ivhh.de/veranstaltungen-ivhh/miteinander-von-wild-und-honigbie
 nen/
SUMMARY:Miteinander von Wild- und Honigbienen
DESCRIPTION:Die Stadt Hamburg ist auf dem Weg\, die Honigbienenhaltung zune
 hmend zu reglementieren. Gibt es eine Konkurrenz von Wild- und Honigbienen
 \, die diese einschränkenden Maßnahmen rechtfertigen kann? Wie ist die S
 ituation aus wissenschaftlicher Sicht?\n\nAugust Wilhelm Schinkel vom Deut
 schen Imkerbund stellt uns den aktuellen wissenschaftlichen Stand dar.\n\n
 Dieser Vortrag wird allen Imkern empfohlen\,  um zukünftig zu diesem The
 ma auf Grundlage von gesicherten Fakten argumentieren zu können.
LOCATION:Brennerhof\, Brennerhof 123\, 22113 Hamburg\, Deutschland
X-APPLE-STRUCTURED-LOCATION;VALUE=URI;X-ADDRESS=Brennerhof 123\, 22113 Hamb
 urg\, Deutschland;X-APPLE-RADIUS=100;X-TITLE=Brennerhof:geo:0,0
END:VEVENT
BEGIN:VEVENT
UID:79@ivhh.de
DTSTART;TZID=Europe/Berlin:20230930T100000
DTEND;TZID=Europe/Berlin:20230930T150000
DTSTAMP:20230920T111513Z
URL:https://ivhh.de/veranstaltungen-ivhh/steuerrecht-fuer-imker-5/
SUMMARY:Steuerrecht für Imker
DESCRIPTION:Samstag\, 30. September 2023 von 10:00 Uhr bis 15:00 Uhr\nVeran
 staltungsort: Imkerhuus Bramfeld\nDozent: Christoph Hansen\, Finanzexperte
 \n\nInhalt des Seminars:\nAuch als Hobbyimker muss man sich mit den wichti
 gsten steuerlichen Vorschriften auskennen.\nWas ist der Unterschied zwisch
 en Einkommensteuer\, Umsatzsteuer\, Ausgaben\, Kosten\, Gewinn\, Nebenerwe
 rb oder Liebhaberei?\nWas gilt\, wenn man Honig\, Kerzen\, Bonbons\, Creme
 \, Propolis\, Met oder Pollen verkaufen möchte?\n\nDieses Seminar vermitt
 elt die grundlegenden steuerrechtlichen Grundlagen sowie die aktuellen Ges
 etzesänderungen und macht deutlich\, warum Steuerrecht auch für Hobbyimk
 er wichtig ist und wie es angewendet wird.
LOCATION:Imkerhuus Bramfeld auf Gut Karlshöhe\, Karlshöhe 60f\, 22175 Ham
 burg\, Deutschland
GEO:53.62997;10.11033
X-APPLE-STRUCTURED-LOCATION;VALUE=URI;X-ADDRESS=Karlshöhe 60f\, 22175 Hamb
 urg\, Deutschland;X-APPLE-RADIUS=100;X-TITLE=Imkerhuus Bramfeld auf Gut Ka
 rlshöhe:geo:53.62997,10.11033
END:VEVENT
BEGIN:VEVENT
UID:81@ivhh.de
DTSTART;TZID=Europe/Berlin:20231021T100000
DTEND;TZID=Europe/Berlin:20231021T160000
DTSTAMP:20231016T064943Z
URL:https://ivhh.de/veranstaltungen-ivhh/hummeln-wespen-und-hornissen-bera
 ten-schuetzen-umsiedeln/
SUMMARY:Hummeln\, Wespen und Hornissen – beraten\, schützen\, umsiedeln
DESCRIPTION:Referentin: Dr. Melanie von Orlow\nTermin: Zweitägig Sa. 21.10
 . und So. 22.10.2023 jeweils von 10 bis 16 Uhr\nOrt: Imkerhuus Imkerverein
  Hamburg-Bramfeld\, Karlshöhe 60 f\, 22175 Hamburg\nKosten: 95 €\nMax. 
 Teilnehmerzahl: 15\n\nKursinhalt: Die Teilnehmer erwerben die für die Ber
 atung zu Hummeln\, Wespen und Hornissen erforderlichen Kenntnisse sowie F
 ähigkeiten zum Umsiedeln von Nestern. Durch Vorträge\, Demonstrationen u
 nd praktische Übungen wird den Teilnehmern das notwendige Rüstzeug vermi
 ttelt\, als sachkundige Ansprechpartner für Insektenberatung tätig zu we
 rden. Die erfolgreiche Teilnahme führt zum Sachkundenachweis für den Sch
 utz von Hummeln\, Wespen und Hornissen zur Vorlage bei der Naturschutzbeh
 örde.\n\nGrundlagen: Arten erkennen\, Biologie\, Bedeutung\, rechtliche G
 rundlagen\, invasive Arten\nKonflikte: Schadpotentiale\, Interpretation vo
 n Verhalten\, Allergien und Stiche\nUmsiedlung: Genehmigungsverfahren\, Um
 siedlung verschiedener Arten\, Sonderfälle - Umsiedlung Königinnen\, Mig
 ration\, Umlenkung\nDemonstrationen: Ausrüstung\, Werkzeuge und Handhabun
 g\, Abschlusstest\n\nVoraussetzungen für die Teilnahme an der Fortbildung
 :\n\n 	Mindestens 3 Jahre Imkerpraxis\n 	Bereitschaft zur ehrenamtlichen B
 eratung von betroffenen Personen und Institutionen\n 	Mobilität und körp
 erliche Eignung um Umsiedlungen im Stadtgebiet von Hamburg zu übernehmen\
 n 	Bereitschaft zur Zusammenarbeit mit der BUKEA\n\nHinweis: Die folgende 
 Buchungsmaske zeigt nur den ersten Seminartag. Die Buchung gilt jedoch fü
 r beide Tage.
LOCATION:Imkerhuus Bramfeld auf Gut Karlshöhe\, Karlshöhe 60f\, 22175 Ham
 burg\, Deutschland
GEO:53.62997;10.11033
X-APPLE-STRUCTURED-LOCATION;VALUE=URI;X-ADDRESS=Karlshöhe 60f\, 22175 Hamb
 urg\, Deutschland;X-APPLE-RADIUS=100;X-TITLE=Imkerhuus Bramfeld auf Gut Ka
 rlshöhe:geo:53.62997,10.11033
END:VEVENT
BEGIN:VEVENT
UID:86@ivhh.de
DTSTART;TZID=Europe/Berlin:20240217T100000
DTEND;TZID=Europe/Berlin:20240217T160000
DTSTAMP:20240130T075317Z
URL:https://ivhh.de/veranstaltungen-ivhh/bsv-auffrischungskurs-2024/
SUMMARY:Fortbildung Bienenkrankheiten
DESCRIPTION:Bitte beachten: Die Buchung ist für beide Tage.\n\nFür Teilne
 hmer\, die den BSV-Kurs 2023 erfolgreich bestanden haben\, werden diese be
 iden Module als Auffrischung anerkannt.\n\nZwei Termine für Fortbildung B
 ienenkrankheiten\nTeil 1 - Sa. 17.02.2024 10-16 Uhr Einführung in die Bie
 nenkrankheiten\nTeil 2 - So. 18.02.2024 10-16 Uhr Bienenkrankheiten\, rech
 tliche Aspekte\n\nReferent: Dr. Peter Hornberger\n\n&nbsp\;
LOCATION:Brennerhof\, Brennerhof 123\, 22113 Hamburg\, Deutschland
X-APPLE-STRUCTURED-LOCATION;VALUE=URI;X-ADDRESS=Brennerhof 123\, 22113 Hamb
 urg\, Deutschland;X-APPLE-RADIUS=100;X-TITLE=Brennerhof:geo:0,0
END:VEVENT
BEGIN:VEVENT
UID:85@ivhh.de
DTSTART;TZID=Europe/Berlin:20240217T100000
DTEND;TZID=Europe/Berlin:20240217T160000
DTSTAMP:20231127T131335Z
URL:https://ivhh.de/veranstaltungen-ivhh/bsv-grundausbildung-2024/
SUMMARY:BSV-Grundausbildung 2024
DESCRIPTION:Bitte beachten: Voraussetzung ist die Vorlage eines Imkerschein
 s mit erfolgreicher Prüfung\, der online gemacht werden kann beim Interne
 t-Portal Die Honigmacher. Hier noch eine Hilfestellung zum Imkerschein Wei
 tere wichtige Informationen für zukünftige BSV siehe hier.\n\nTermine f
 ür die BSV-Grundausbildung 2024\nTeil 1 - Sa. 17.02.2024 10-16 Uhr Einfü
 hrung in die Bienenkrankheiten\nTeil 2 - So. 18.02.2024 10-16 Uhr Bienenkr
 ankheiten\, rechtliche Aspekte\nTeil 3 - Sa. 02.03.2024 10-16 Uhr Ausgewä
 hlte Bienenkrankheiten aus der Praxis\nTeil 4 - So. 03.03.2024 10-16 Uhr V
 orgehen AFB-Sanierung &amp\; Abschlussprüfung\n\nReferent für Teil 1 und
  2 ist Dr. Peter Hornberger\nReferent für Teil 3 und 4 ist Wulf-Ingo Lau
LOCATION:Brennerhof\, Brennerhof 123\, 22113 Hamburg\, Deutschland
X-APPLE-STRUCTURED-LOCATION;VALUE=URI;X-ADDRESS=Brennerhof 123\, 22113 Hamb
 urg\, Deutschland;X-APPLE-RADIUS=100;X-TITLE=Brennerhof:geo:0,0
END:VEVENT
BEGIN:VEVENT
UID:87@ivhh.de
DTSTART;TZID=Europe/Berlin:20240302T100000
DTEND;TZID=Europe/Berlin:20240302T160000
DTSTAMP:20240130T075355Z
URL:https://ivhh.de/veranstaltungen-ivhh/fachkundezertifikat-honig-maerz-2
 024/
SUMMARY:Fachkundezertifikat Honig - März 2024
DESCRIPTION:Imker\, die ihren Honig vermarkten möchten\, müssen bestimmte
 n Qualitätsanforderungen entsprechen und die einschlägigen Gesetze kenne
 n. Sie lernen die Hygieneanforderungen der Veterinärbehörden hinsichtlic
 h der Verarbeitung und Lagerung von Honig kennen.\nAusserdem muss zum Erwe
 rb des Gewährverschlusses des Deutschen Imkerbundes die erfolgreiche Teil
 nahme an einem Fachkundeseminar Honig nachgewiesen werden. Dieser 2-tägig
 e Kurs wird vom einem geschultem Fachberater gehalten und vermittelt alle 
 erforderlichen theoretischen und praktischen Inhalte.\n\nBitte beachten: D
 ie Buchung gilt für beide Tage.\n\nTermine\nSa. 02.03.2024 10-16 Uhr Theo
 rie und Honiganalytik\nSo. 03.03.2024 10-16 Uhr Honigbehandlung\, Hygiene 
 und Abschlussprüfung\nReferent: Honigobmann Thomas Krieger
LOCATION:Imkerhuus Bramfeld auf Gut Karlshöhe\, Karlshöhe 60f\, 22175 Ham
 burg\, Deutschland
GEO:53.62997;10.11033
X-APPLE-STRUCTURED-LOCATION;VALUE=URI;X-ADDRESS=Karlshöhe 60f\, 22175 Hamb
 urg\, Deutschland;X-APPLE-RADIUS=100;X-TITLE=Imkerhuus Bramfeld auf Gut Ka
 rlshöhe:geo:53.62997,10.11033
END:VEVENT
BEGIN:VEVENT
UID:90@ivhh.de
DTSTART;TZID=Europe/Berlin:20240616T103000
DTEND;TZID=Europe/Berlin:20240616T160000
DTSTAMP:20240416T090821Z
URL:https://ivhh.de/veranstaltungen-ivhh/vespa-velutina-verbreitung-der-as
 iatischen-hornisse-in-hamburg/
SUMMARY:Vespa Velutina - Gefahr durch die asiatische Hornisse in Hamburg
DESCRIPTION:Die Vespa velutina ist eine neue\, invasive Spezies in unsere
 m Ökosystem und stellt für Wildbienen\, Honigbienen und Menschen eine eh
 ebliche Gefahr dar. Sie breitet sich in Europa aktuell mit einer Geschwind
 igkeit von ca. 80 km pro Jahr von Südwest nach Nordosten aus. In Hamburg 
 sind bereits mehrere Nester aufgespürt und vernichtet wurden.\n\nWir info
 rmieren zur Biologie der Vespa Velutina\, zum aktuellen Ausbreitungsstand\
 , sinnvollen Gegenmaßnahmen\, Ansprechpartnern und den Möglichkeiten mit
 zuwirken\, die Verbreitung in Hamburg zu bekämpfen. Die Sensibilisierung 
 der Bevölkerung und Ausbildung von Multiplikatoren ist die wichtigste Ma
 ßnahme\, um frühzeitig Bekämpfungsmaßnahmen einleiten zu können. Hilf
 reiche Informationen finden Sie auch hier.\n\n\nWir haben führende Fachxp
 erten eingeladen\, den aktuellen Stand der Forschung und Bekämpfungsmetho
 den vorzustellen.\n\nDr. Christiane Stark\, Umweltbundesamt/Biozide\, beri
 chtet über den aktuellen Stand der Zulassung von Biozidprodukten zur Bek
 ämpfung der Vespa Velutina.\n\nKai Schütte\, Biologe\, BUKEA - Referat f
 ür Artenschutz\, und Oliver Wieckhorst\, Insektenfachberater\, berichten 
 unter anderem über den Einsatz von Radiotelemetrie zum Auffinden der Nest
 er in Hamburg.\n\nAndreas Presuhn\, Obmann für Bienengesundheit im Rheinl
 andpfälzischen Imkerverband und bundesweit bekannter Experte für die Bek
 ämpfung der Vespa Velutina.
LOCATION:Brennerhof\, Brennerhof 123\, 22113 Hamburg\, Deutschland
X-APPLE-STRUCTURED-LOCATION;VALUE=URI;X-ADDRESS=Brennerhof 123\, 22113 Hamb
 urg\, Deutschland;X-APPLE-RADIUS=100;X-TITLE=Brennerhof:geo:0,0
END:VEVENT
BEGIN:VEVENT
UID:88@ivhh.de
DTSTART;TZID=Europe/Berlin:20240720T100000
DTEND;TZID=Europe/Berlin:20240720T160000
DTSTAMP:20240704T034805Z
URL:https://ivhh.de/veranstaltungen-ivhh/fachkundezertifikat-honig-juli-20
 24/
SUMMARY:Fachkundezertifikat Honig - Juli 2024
DESCRIPTION:Imker\, die ihren Honig vermarkten möchten\, müssen bestimmte
 n Qualitätsanforderungen entsprechen und die einschlägigen Gesetze kenne
 n. Sie lernen die Hygieneanforderungen der Veterinärbehörden hinsichtlic
 h der Verarbeitung und Lagerung von Honig kennen.\nAusserdem muss zum Erwe
 rb des Gewährverschlusses des Deutschen Imkerbundes die erfolgreiche Teil
 nahme an einem Fachkundeseminar Honig nachgewiesen werden. Dieser 2-tägig
 e Kurs wird vom einem geschultem Fachberater gehalten und vermittelt alle 
 erforderlichen theoretischen und praktischen Inhalte.\n\nBitte beachten: D
 ie Buchung gilt für beide Tage.\n\nTermine\nSa. 20.07.2024 10-16 Uhr Theo
 rie und Honiganalytik\nSo. 21.07.2024 10-16 Uhr Honigbehandlung\, Hygiene 
 und Abschlussprüfung\nReferent: Honigobmann Thomas Krieger
LOCATION:Brennerhof\, Brennerhof 123\, 22113 Hamburg\, Deutschland
X-APPLE-STRUCTURED-LOCATION;VALUE=URI;X-ADDRESS=Brennerhof 123\, 22113 Hamb
 urg\, Deutschland;X-APPLE-RADIUS=100;X-TITLE=Brennerhof:geo:0,0
END:VEVENT
BEGIN:VEVENT
UID:89@ivhh.de
DTSTART;TZID=Europe/Berlin:20240727T093000
DTEND;TZID=Europe/Berlin:20240727T163000
DTSTAMP:20240216T171041Z
URL:https://ivhh.de/veranstaltungen-ivhh/varroa-viren-und-unsere-bienen-se
 minar-mit-dr-hannes-beims/
SUMMARY:Varroa\, Viren und unsere Bienen - Seminar mit Dr. Hannes Beims
DESCRIPTION:Neben der Varroamilbe sind Viren in Bienenvölkern ein Thema\, 
 welches mehr und mehr in den Vordergrund rückt. Die Varroamilbe kann als 
 biologischer Vektor fast alle Viren übertragen und infiziert Königinnen\
 , Arbeiterinnen und Brut. Hohe Völkerverluste werden nicht nur durch die 
 reine Milbenzahl verursacht\, sondern eine veränderte Virenlast wirkt sic
 h zunehmend auf das Immunsystem unserer Bienen aus.\n\nIn diesem hochinter
 essanten Seminar erfahren Sie alles über:\n\n 	Varroa-Biologie\, sowie da
 mit assoziierte Virosen im Vergleich\n 	Infektionswege/Ansteckung\n 	Varro
 adiagnose + Begleiterkrankungen\n 	Imkerliche Gegenmaßnahmen + Varroazide
 \n\nDr. Hannes Beims ist Leiter der Fachberatung für Imkerei des Bezirks 
 Oberbayern. Der promovierte Biologe ist ein ausgewiesener Fachmann\, der s
 owohl auf wissenschaftlichem Gebiet als auch in der Imkereipraxis viel Erf
 ahrung mitbringt.
LOCATION:Brennerhof\, Brennerhof 123\, 22113 Hamburg\, Deutschland
X-APPLE-STRUCTURED-LOCATION;VALUE=URI;X-ADDRESS=Brennerhof 123\, 22113 Hamb
 urg\, Deutschland;X-APPLE-RADIUS=100;X-TITLE=Brennerhof:geo:0,0
END:VEVENT
BEGIN:VTIMEZONE
TZID:Europe/Berlin
X-LIC-LOCATION:Europe/Berlin
BEGIN:DAYLIGHT
DTSTART:20230326T030000
TZOFFSETFROM:+0100
TZOFFSETTO:+0200
TZNAME:CEST
END:DAYLIGHT
BEGIN:STANDARD
DTSTART:20231029T020000
TZOFFSETFROM:+0200
TZOFFSETTO:+0100
TZNAME:CET
END:STANDARD
BEGIN:DAYLIGHT
DTSTART:20240331T030000
TZOFFSETFROM:+0100
TZOFFSETTO:+0200
TZNAME:CEST
END:DAYLIGHT
END:VTIMEZONE
END:VCALENDAR